BEGIN:VCALENDAR
VERSION:2.0
PRODID:-//ACSPro Training - ECPv4.6.16//NONSGML v1.0//EN
CALSCALE:GREGORIAN
METHOD:PUBLISH
X-WR-CALNAME:ACSPro Training
X-ORIGINAL-URL:http://acsprotraining.com
X-WR-CALDESC:Events for ACSPro Training
BEGIN:VEVENT
DTSTART;VALUE=DATE:20181231
DTEND;VALUE=DATE:20190101
DTSTAMP:20260422T212603
CREATED:20180622T103700Z
LAST-MODIFIED:20180622T103700Z
UID:2323-1546214400-1546300799@acsprotraining.com
SUMMARY:New Year's Eve
DESCRIPTION:
URL:http://acsprotraining.com/event/new-years-eve/
CATEGORIES:Holiday School Closings
END:VEVENT
END:VCALENDAR