BEGIN:VCALENDAR
VERSION:2.0
PRODID:-//ACSPro Training - ECPv4.6.16//NONSGML v1.0//EN
CALSCALE:GREGORIAN
METHOD:PUBLISH
X-WR-CALNAME:ACSPro Training
X-ORIGINAL-URL:http://acsprotraining.com
X-WR-CALDESC:Events for ACSPro Training
BEGIN:VEVENT
DTSTART;VALUE=DATE:20180407
DTEND;VALUE=DATE:20180408
DTSTAMP:20260423T115643
CREATED:20180622T103247Z
LAST-MODIFIED:20180622T103247Z
UID:2301-1523059200-1523145599@acsprotraining.com
SUMMARY:Passover
DESCRIPTION:
URL:http://acsprotraining.com/event/passover/
CATEGORIES:Holiday School Closings
END:VEVENT
END:VCALENDAR