BEGIN:VCALENDAR
VERSION:2.0
PRODID:-//ACSPro Training - ECPv4.6.16//NONSGML v1.0//EN
CALSCALE:GREGORIAN
METHOD:PUBLISH
X-WR-CALNAME:ACSPro Training
X-ORIGINAL-URL:http://acsprotraining.com
X-WR-CALDESC:Events for ACSPro Training
BEGIN:VEVENT
DTSTART;VALUE=DATE:20180910
DTEND;VALUE=DATE:20180911
DTSTAMP:20260423T041045
CREATED:20180622T103405Z
LAST-MODIFIED:20180622T103405Z
UID:2309-1536537600-1536623999@acsprotraining.com
SUMMARY:Rosh Hashana
DESCRIPTION:
URL:http://acsprotraining.com/event/rosh-hashana/
CATEGORIES:Holiday School Closings
END:VEVENT
END:VCALENDAR