BEGIN:VCALENDAR
VERSION:2.0
PRODID:-//ACSPro Training - ECPv4.6.16//NONSGML v1.0//EN
CALSCALE:GREGORIAN
METHOD:PUBLISH
X-WR-CALNAME:ACSPro Training
X-ORIGINAL-URL:http://acsprotraining.com
X-WR-CALDESC:Events for ACSPro Training
BEGIN:VEVENT
DTSTART;VALUE=DATE:20180219
DTEND;VALUE=DATE:20180220
DTSTAMP:20260423T115915
CREATED:20180622T103202Z
LAST-MODIFIED:20180622T103202Z
UID:2297-1518998400-1519084799@acsprotraining.com
SUMMARY:President's Day
DESCRIPTION:
URL:http://acsprotraining.com/event/presidents-day/
CATEGORIES:Holiday School Closings
END:VEVENT
END:VCALENDAR