BEGIN:VCALENDAR
VERSION:2.0
PRODID:-//ACSPro Training - ECPv4.6.16//NONSGML v1.0//EN
CALSCALE:GREGORIAN
METHOD:PUBLISH
X-WR-CALNAME:ACSPro Training
X-ORIGINAL-URL:http://acsprotraining.com
X-WR-CALDESC:Events for ACSPro Training
BEGIN:VEVENT
DTSTART;VALUE=DATE:20180115
DTEND;VALUE=DATE:20180116
DTSTAMP:20260423T134447
CREATED:20180622T103137Z
LAST-MODIFIED:20180622T103137Z
UID:2295-1515974400-1516060799@acsprotraining.com
SUMMARY:Martin Luther King Jr. Day
DESCRIPTION:
URL:http://acsprotraining.com/event/martin-luther-king-jr-day/
CATEGORIES:Holiday School Closings
END:VEVENT
END:VCALENDAR