BEGIN:VCALENDAR
VERSION:2.0
PRODID:-//ACSPro Training - ECPv4.6.16//NONSGML v1.0//EN
CALSCALE:GREGORIAN
METHOD:PUBLISH
X-WR-CALNAME:ACSPro Training
X-ORIGINAL-URL:http://acsprotraining.com
X-WR-CALDESC:Events for ACSPro Training
BEGIN:VEVENT
DTSTART;VALUE=DATE:20180330
DTEND;VALUE=DATE:20180331
DTSTAMP:20260423T102847
CREATED:20180622T103227Z
LAST-MODIFIED:20180622T103227Z
UID:2299-1522368000-1522454399@acsprotraining.com
SUMMARY:Good Friday
DESCRIPTION:
URL:http://acsprotraining.com/event/good-friday/
CATEGORIES:Holiday School Closings
END:VEVENT
END:VCALENDAR